BEGIN:VCALENDAR
VERSION:2.0
PRODID:-//ChamberMaster//Event Calendar 2.0//EN
METHOD:PUBLISH
X-PUBLISHED-TTL:P3D
REFRESH-INTERVAL:P3D
CALSCALE:GREGORIAN
BEGIN:VEVENT
DTSTART:20250803T230000Z
DTEND:20250808T013000Z
X-MICROSOFT-CDO-ALLDAYEVENT:FALSE
SUMMARY:Cave Quest - Vacation Bible School
DESCRIPTION:Ready to dig in deep and discover how Jesus is the light of the world? Your kids are going to LOVE Cave Quest! Come enjoy great music\, dancing\, snacks\, storytelling\, games\, and more - all of it centered around Jesus! Our incredible team of engaging and enthusiastic volunteers are registered youth workers. Our team is blessed to get the opportunity to serve our community and we can't wait to see your family there! The Details: August 3-7\, 6pm-8:30pm Northwest Community of Christ - 3003 62nd St\, Des Moines\, IA\, 50322 Registration Link - https://docs.google.com/forms/d/e/1FAIpQLSck_70VNdf-W5pZfWUgGI4nDkDJ24VyUcPhQbtCfQRzv0Gr0w/viewform?usp=sharing&ouid=101919804563329206939
X-ALT-DESC;FMTTYPE=text/html:Ready to dig in deep and discover how Jesus is the light of the world? Your kids are going to LOVE Cave Quest! Come enjoy great music\, dancing\, snacks\, storytelling\, games\, and more - all of it centered around Jesus! Our incredible team of engaging and enthusiastic volunteers are registered youth workers. Our team is blessed to get the opportunity to serve our community and we can&#39\;t wait to see your family there! The Details: August 3-7\, 6pm-8:30pm Northwest Community of Christ - 3003 62nd St\, Des Moines\, IA\, 50322 Registration Link - https://docs.google.com/forms/d/e/1FAIpQLSck_70VNdf-W5pZfWUgGI4nDkDJ24VyUcPhQbtCfQRzv0Gr0w/viewform?usp=sharing&amp\;ouid=101919804563329206939
LOCATION:Northwest Community of Christ - 3003 62nd St\, Des Moines\, IA\, 50322
UID:e.1185.17318
SEQUENCE:3
DTSTAMP:20260420T050244Z
URL:https://businesses.uniquelyurbandale.com/events/details/cave-quest-vacation-bible-school-17318
END:VEVENT

END:VCALENDAR
