BEGIN:VCALENDAR
VERSION:2.0
PRODID:-//ChamberMaster//Event Calendar 2.0//EN
METHOD:PUBLISH
X-PUBLISHED-TTL:P3D
REFRESH-INTERVAL:P3D
CALSCALE:GREGORIAN
BEGIN:VEVENT
DTSTART:20250213T140000Z
DTEND:20250213T150000Z
X-MICROSOFT-CDO-ALLDAYEVENT:FALSE
SUMMARY:CANCELLED Wake Up in Windsor Heights CANCELLED
DESCRIPTION:Wake up in Windsor Heights IS CANCELLED FOR FEBRUARY!\n\nThe Windsor Heights Chamber of Commerce\, powered by the Urbandale Chamber\, is proud to launch a new networking event in 2025 to provide an opportunity to connect with Windsor Heights businesses!\n\n\n\nPlease join us on the 2nd Thursday of every month in 2025 from 8-9 a.m. hosted at different Windsor Heights Chamber member businesses.  \n\n\n\nPeople do business with those they know\, like and trust.  Let's strengthen the Windsor Heights business community through coffee and conversations!\n\n\n\nA special thank you to this month's hosts\, RE/MAX Concepts and KReate Business Brokerage.\n\nImportant Disclaimer\n\nPlease register to attend.  Many of the event locations will have space limitations\, so registration will be limited.  A waiting list will be formed for those who register after we've reached the registration limit.  If you register and cannot make it\, we respectfully request you use the confirmation link to cancel your registration so that someone else can join us!
X-ALT-DESC;FMTTYPE=text/html:<h2 style="text-align: center\;"><span style="font-family:verdana\;"><span style="color:#008000\;"><strong>Wake up in Windsor Heights </strong></span><span style="color:#FF0000\;"><strong>IS CANCELLED FOR FEBRUARY!</strong></span></span></h2>\n\n<p><span style="font-size:16px\;"><span style="font-family:verdana\;">The Windsor Heights Chamber of Commerce\, powered by the Urbandale Chamber\, is proud to launch a new networking event in 2025 to provide an opportunity to connect with Windsor Heights businesses!<br />\n<br />\nPlease join us on the 2nd Thursday of every month in 2025 from 8-9 a.m. hosted at different Windsor Heights Chamber member businesses.&nbsp\;&nbsp\;<br />\n<br />\nPeople do business with those they know\, like and trust.&nbsp\; Let&#39\;s strengthen the Windsor Heights business community through coffee and conversations!</span></span><br />\n<br />\n<strong><span style="font-family:verdana\;"><span style="font-size:16px\;">A special thank you to this month&#39\;s hosts\,<a href="https://www.iowahomesales.com/"> RE/MAX Concepts </a>and <a href="http://krbb.com">KReate Business Brokerage</a>.</span></span></strong></p>\n\n<h1 style="text-align: center\;"><span style="font-family:verdana\;"><u><span style="color:#006400\;"><strong>Important Disclaimer</strong></span></u></span></h1>\n\n<p style="text-align: center\;"><em><span style="font-family:verdana\;"><span style="font-size:14px\;"><strong><u style="font-size: 13px\;">Please register to attend.</u>&nbsp\;</strong> Many of the event locations will have space limitations\, so registration will be limited.&nbsp\; A waiting list will be formed for those who register after we&#39\;ve reached the registration limit.&nbsp\; <strong style="font-size: 13px\;">If you register and cannot make it\, we respectfully request you use the confirmation link to cancel your registration so that someone else can join us!&nbsp\;&nbsp\;</strong></span></span></em></p>\n
LOCATION:RE/MAX Concepts 6600 University Ave. Windsor Heights\, IA
UID:e.1185.15938
SEQUENCE:3
DTSTAMP:20260420T150510Z
URL:https://businesses.uniquelyurbandale.com/events/details/cancelled-wake-up-in-windsor-heights-cancelled-15938
END:VEVENT

END:VCALENDAR
