BEGIN:VCALENDAR
VERSION:2.0
PRODID:-//ChamberMaster//Event Calendar 2.0//EN
METHOD:PUBLISH
X-PUBLISHED-TTL:P3D
REFRESH-INTERVAL:P3D
CALSCALE:GREGORIAN
BEGIN:VEVENT
DTSTART:20260425T153000Z
DTEND:20260425T170000Z
X-MICROSOFT-CDO-ALLDAYEVENT:FALSE
SUMMARY:CANCELLED! 2026 Talk with Officials - April
DESCRIPTION:Talk with Officials is a forum for the community to connect with elected officials representing Urbandale at the State\, County\, City and School District.  Space is limited.\n\n\n\nThe Talk with Officials events are open to the general public and held on the last Saturday of each respective month.  Registration is required for in-person attendance. Virtual attendance is unlimited\, however registration is still required to receive the link.\n\n\n\nQuestions will be accepted both from in-person and virtual attendees.  Please submit questions in advance\, preferably before Thursday\, April 23rd  We will only accept additional questions the day of if time allows.  \n\n\n\nConfirmed Elected Officials Include:\n\nRepresentative Larry McBurney (D)\,  Senator Matt Blake (D)\, Margaret Young\, Urbandale School Board Chair.\n\n\n\nInvited elected officials include: Mayor Bob Andeweg\,\, Representative Eddie Andrews (R)\, Representative Dan Gehlbach (R)\, Polk County Supervisor Jill Altringer\, \n\n\n\n \nThank you to our Presenting Sponsor:\n\nTBD\n\nA special thank you as well to our April Sponsor:\n\nTBD
X-ALT-DESC;FMTTYPE=text/html:Talk with Officials is a forum for the community to connect with elected officials representing Urbandale at the State\, County\, City and School District.&nbsp\; Space is limited.<br style="font-family: arial\, sans-serif\; font-size: 14px\;" />\n<br style="font-family: arial\, sans-serif\; font-size: 14px\;" />\nThe Talk with Officials events are open to the general public and held on the last Saturday of each respective month.&nbsp\;&nbsp\;<span style="color: rgb(255\, 0\, 0)\;"><strong>Registration is required for in-person attendance</strong></span>. Virtual attendance is unlimited\, however registration is still required to receive the link.<br />\n<br />\nQuestions will be accepted both from in-person and virtual attendees.&nbsp\;&nbsp\;<span style="color: rgb(255\, 0\, 0)\;"><strong>Please submit questions in advance\, preferably before&nbsp\;<u>Thursday\, April 23rd&nbsp\;</u>&nbsp\;</strong></span>We will only accept additional questions the day of if time allows.&nbsp\;&nbsp\;<br />\n<br />\n<strong>Confirmed Elected Officials Include:</strong><br />\nRepresentative Larry McBurney (D)\,&nbsp\;&nbsp\;Senator Matt Blake (D)\, Margaret Young\, Urbandale School Board Chair.<br />\n<br />\n<strong>Invited elected officials include</strong>: Mayor Bob Andeweg\,\, Representative Eddie Andrews (R)\, Representative Dan Gehlbach (R)\, Polk County Supervisor Jill Altringer\,&nbsp\;<br />\n<br />\n&nbsp\;\n<div style="text-align: center\;"><strong style="text-align: center\;">Thank you to our Presenting Sponsor:<br />\nTBD<br />\nA special thank you as well to our April&nbsp\;Sponsor:<br />\nTBD</strong></div>\n
LOCATION:Aisha R. Syed Board Room - limited in person Realtor | Iowa Realty Urbandale Chamber of Commerce 2830 100th St.\, Ste. 110\, Urbandale and available virtually
UID:e.1185.17653
SEQUENCE:3
DTSTAMP:20260421T131745Z
URL:https://businesses.uniquelyurbandale.com/events/details/cancelled-2026-talk-with-officials-april-17653
END:VEVENT

END:VCALENDAR
