BEGIN:VCALENDAR
VERSION:2.0
PRODID:-//ChamberMaster//Event Calendar 2.0//EN
METHOD:PUBLISH
X-PUBLISHED-TTL:P3D
REFRESH-INTERVAL:P3D
CALSCALE:GREGORIAN
BEGIN:VEVENT
DTSTART:20250206T153000Z
DTEND:20250206T163000Z
X-MICROSOFT-CDO-ALLDAYEVENT:FALSE
SUMMARY:Building Better Business Habits - Sales and Marketing
DESCRIPTION:Join us for an engaging presentation designed to help business owners and leaders refine their sales and marketing strategies for maximum results. We'll explore proven methods to attract and retain customers\, develop compelling messaging\, and leverage the latest tools to drive growth. Packed with actionable tips and insights\, this session will empower attendees to boost revenue\, strengthen brand loyalty\, and stay ahead in today's competitive market.
X-ALT-DESC;FMTTYPE=text/html:Join us for an engaging presentation designed to help business owners and leaders refine their sales and marketing strategies for maximum results. We&rsquo\;ll explore proven methods to attract and retain customers\, develop compelling messaging\, and leverage the latest tools to drive growth. Packed with actionable tips and insights\, this session will empower attendees to boost revenue\, strengthen brand loyalty\, and stay ahead in today&rsquo\;s competitive market.
LOCATION:Online Sign up at: https://www.claritybusinesscoach.com/clarity-business-coaching-events/sales-and-marketing
UID:e.1185.16695
SEQUENCE:3
DTSTAMP:20260421T055815Z
URL:https://businesses.uniquelyurbandale.com/events/details/building-better-business-habits-sales-and-marketing-16695
END:VEVENT

END:VCALENDAR
