BEGIN:VCALENDAR
VERSION:2.0
PRODID:-//ChamberMaster//Event Calendar 2.0//EN
METHOD:PUBLISH
X-PUBLISHED-TTL:P3D
REFRESH-INTERVAL:P3D
CALSCALE:GREGORIAN
BEGIN:VEVENT
DTSTART:20201006T180000Z
DTEND:20201007T013000Z
X-MICROSOFT-CDO-ALLDAYEVENT:FALSE
SUMMARY:Blood Drive & Ladies Night Out
DESCRIPTION:1Collision Grimes is pleased to partner with LifeServe Blood Center to host a Mobile Blood Drive at our shop (2100 Se Gateway Drive\, Grimes IA 50111) on October 6\, 2020 from 1-5 pm. After your appointment\, stick around for our signature event\, Ladies Night   Crash Course. This Automotive Crash Course is set in a shop environment\, coaching women on everything from basic maintenance and repair to dealing with the scary situations of an accident. Click the link to schedule your appointment\, you won't want to miss out on this fun-filled night! https://loom.ly/QIYk5Z8
X-ALT-DESC;FMTTYPE=text/html:<div color:="" font-size:="" segoe="" ui="">\n<p dir="auto">1Collision Grimes is pleased to partner with LifeServe Blood Center to host a Mobile Blood Drive at our shop (2100 Se Gateway Drive\, Grimes IA 50111) on October 6\, 2020 from 1-5 pm. After your appointment\, stick around for our signature event\, Ladies Night &ndash\; Crash Course. This Automotive Crash Course is set in a shop environment\, coaching women on everything from basic maintenance and repair to dealing with the scary situations of an accident. Click the link to schedule your appointment\, you won&#39\;t want to miss out on this fun-filled night!&nbsp\;<a font-size:="" href="https://loom.ly/QIYk5Z8?fbclid=IwAR3gUzHUFvP5LJWma0wFh0SbdtWcpWmPw1Ir7LPlcwnZFPXuSwg2uYiBBgg" rel="nofollow noopener" role="link" segoe="" tabindex="0" target="_blank" ui="" white-space:="">https://loom.ly/QIYk5Z8</a></p>\n</div>\n
LOCATION:1Collision Grimes 2100 Se Gateway Drive\, Grimes IA 50111
UID:e.1185.10960
SEQUENCE:3
DTSTAMP:20260424T043258Z
URL:https://businesses.uniquelyurbandale.com/events/details/blood-drive-ladies-night-out-10960
END:VEVENT

END:VCALENDAR
