BEGIN:VCALENDAR
VERSION:2.0
PRODID:-//ChamberMaster//Event Calendar 2.0//EN
METHOD:PUBLISH
X-PUBLISHED-TTL:P3D
REFRESH-INTERVAL:P3D
CALSCALE:GREGORIAN
BEGIN:VEVENT
DTSTART:20110405T220000Z
DTEND:20110406T000000Z
X-MICROSOFT-CDO-ALLDAYEVENT:FALSE
SUMMARY:April In the Mix with Minority Business Owners\, Presented by Anderson Properties
DESCRIPTION:Join us for a new twist to our Business after Hours event!  Each month we invite a different market segment to attend the event. This provides members the opportunity to network with a different mix of business leaders outside of the Urbandale Chamber membership. This month's focus is Minority Business Owners.  All Chamber members are welcome and encouraged to attend every In the Mix event.\n\n	Host/Sponsor: Webcast One Live\n\n	Focus: Minority Business Owners\n\n	Join us this month as we invite our Minority Business Owners to attend our In the Mix.\n\n	Time: 5-7 pm\n\n	Location: Webcast One Live\, 655 Walnut Street\, Suite 225\, Hub Tower\, Des Moines\n\n	Cost: Included in your membership but RSVP's are requested to accommodate food and beverage.
X-ALT-DESC;FMTTYPE=text/html:<p>\n	Join us for a new twist to our Business after Hours event!&nbsp\; Each month we invite a different market segment to attend the event. This provides members the opportunity to network with a different mix of business leaders outside of the Urbandale Chamber membership. This month&rsquo\;s focus is Minority Business Owners.&nbsp\; All Chamber members are welcome and encouraged to attend every In the Mix event.</p>\n<p>\n	Host/Sponsor: Webcast One Live<br />\n	Focus: Minority Business Owners</p>\n<p>\n	Join us this month as we invite our Minority Business Owners to attend our In the Mix.</p>\n<p>\n	Time: 5-7 pm<br />\n	Location: Webcast One Live\, 655 Walnut Street\, Suite 225\, Hub Tower\, Des Moines<br />\n	Cost: Included in your membership but RSVP&#39\;s are requested to accommodate food and beverage.</p>\n
LOCATION:
UID:e.1185.579
SEQUENCE:3
DTSTAMP:20260419T132212Z
URL:https://businesses.uniquelyurbandale.com/events/details/april-in-the-mix-with-minority-business-owners-presented-by-anderson-properties-04-05-2011-579
END:VEVENT

END:VCALENDAR
