BEGIN:VCALENDAR
VERSION:2.0
PRODID:-//ChamberMaster//Event Calendar 2.0//EN
METHOD:PUBLISH
X-PUBLISHED-TTL:P3D
REFRESH-INTERVAL:P3D
CALSCALE:GREGORIAN
BEGIN:VEVENT
DTSTART:20250516T133000Z
DTEND:20250516T143000Z
X-MICROSOFT-CDO-ALLDAYEVENT:FALSE
SUMMARY:Anytime Fitness Urbandale Presents: Yoga and Sound Bath with Delaney
DESCRIPTION:Delaney of Anytime Fitness Urbandale will host a yoga and sound bath session. This is open to the public and all fitness levels.\n\nPlease scan the QR code on the poster to register. We have 15 slots available. \n\nPlease bring a yoga mat or towel\, we have limited available.
X-ALT-DESC;FMTTYPE=text/html:<p>Delaney of Anytime Fitness Urbandale will host a yoga and sound bath session. This is open to the public and all fitness levels.</p>\n\n<p>Please scan the QR code on the poster to register. We have 15 slots available.&nbsp\;</p>\n\n<p>Please bring a yoga mat or towel\, we have limited available.&nbsp\;</p>\n
LOCATION:Urbandale Chamber conference room
UID:e.1185.17141
SEQUENCE:3
DTSTAMP:20260421T113635Z
URL:https://businesses.uniquelyurbandale.com/events/details/anytime-fitness-urbandale-presents-yoga-and-sound-bath-with-delaney-17141
END:VEVENT

END:VCALENDAR
