BEGIN:VCALENDAR
VERSION:2.0
PRODID:-//ChamberMaster//Event Calendar 2.0//EN
METHOD:PUBLISH
X-PUBLISHED-TTL:P3D
REFRESH-INTERVAL:P3D
CALSCALE:GREGORIAN
BEGIN:VEVENT
DTSTART:20201013T230000Z
DTEND:20201014T003000Z
X-MICROSOFT-CDO-ALLDAYEVENT:FALSE
SUMMARY:An Introduction to Board Service
DESCRIPTION:Are you interested in taking on a volunteer leadership role with a nonprofit organization\, a school\, your church or local city government?  \n\n\n\nAn introduction to board service is a free session open to the public.  Pre-registration is required for each session.  Presented by Paul Thelen\, JD\, Director of the Larned A Waterman Iowa Nonprofit Resource Center at the University of Iowa    \n\n\n\nTo register call 515-278-3945 or visit www.urbandalelibrary.org
X-ALT-DESC;FMTTYPE=text/html:Are you interested in taking on a volunteer leadership role with a nonprofit organization\, a school\, your church or local city government?&nbsp\;&nbsp\;<br />\n<br />\nAn introduction to board service is a free session open to the public.&nbsp\; Pre-registration is required for each session.&nbsp\; Presented by Paul Thelen\, JD\, Director of the Larned A Waterman Iowa Nonprofit Resource Center at the University of Iowa&nbsp\;&nbsp\;&nbsp\;&nbsp\;<br />\n<br />\nTo register call 515-278-3945 or visit www.urbandalelibrary.org&nbsp\;
LOCATION:Zoom
UID:e.1185.10961
SEQUENCE:3
DTSTAMP:20260424T043257Z
URL:https://businesses.uniquelyurbandale.com/events/details/an-introduction-to-board-service-10961
END:VEVENT

END:VCALENDAR
