BEGIN:VCALENDAR
VERSION:2.0
PRODID:-//ChamberMaster//Event Calendar 2.0//EN
METHOD:PUBLISH
X-PUBLISHED-TTL:P3D
REFRESH-INTERVAL:P3D
CALSCALE:GREGORIAN
BEGIN:VEVENT
DTSTART:20241205T000000Z
DTEND:20241205T010000Z
X-MICROSOFT-CDO-ALLDAYEVENT:FALSE
SUMMARY:All Levels Tactical Yoga
DESCRIPTION:Come in and find your Zen with Yogini Krystal! This is not your average yoga class but everything is at your pace and level and just be prepared to let stuff go and relax!
X-ALT-DESC;FMTTYPE=text/html:Come in and find your Zen with Yogini Krystal! This is not your average yoga class but everything is at your pace and level and just be prepared to let stuff go and relax!
LOCATION:Tactical Yoga - 3975 100th St Urbandale Iowa
UID:e.1185.14382
SEQUENCE:3
DTSTAMP:20260421T013159Z
URL:https://businesses.uniquelyurbandale.com/events/details/all-levels-tactical-yoga-12-04-2024-14382
END:VEVENT

END:VCALENDAR
