BEGIN:VCALENDAR
VERSION:2.0
PRODID:-//ChamberMaster//Event Calendar 2.0//EN
METHOD:PUBLISH
X-PUBLISHED-TTL:P3D
REFRESH-INTERVAL:P3D
CALSCALE:GREGORIAN
BEGIN:VEVENT
DTSTART:20211106T230000Z
DTEND:20211107T030000Z
X-MICROSOFT-CDO-ALLDAYEVENT:FALSE
SUMMARY:22nd Annual Fall Gala
DESCRIPTION:Come join us for our 22nd Annual Fall Gala! Cocktail Attire Live Music Silent & Live Auctions Plated Dinner
X-ALT-DESC;FMTTYPE=text/html:Come join us for our 22nd Annual Fall Gala! Cocktail Attire Live Music Silent &amp\; Live Auctions Plated Dinner
LOCATION:Meadows Event Center at Prairie Meadows 1 Prairie Meadows Dr\, Altoona\, IA 50009
UID:e.1185.11256
SEQUENCE:3
DTSTAMP:20260424T230715Z
URL:https://businesses.uniquelyurbandale.com/events/details/22nd-annual-fall-gala-11256
END:VEVENT

END:VCALENDAR
