BEGIN:VCALENDAR
VERSION:2.0
PRODID:-//ChamberMaster//Event Calendar 2.0//EN
METHOD:PUBLISH
X-PUBLISHED-TTL:P3D
REFRESH-INTERVAL:P3D
CALSCALE:GREGORIAN
BEGIN:VEVENT
DTSTART:20260131T163000Z
DTEND:20260131T180000Z
X-MICROSOFT-CDO-ALLDAYEVENT:FALSE
SUMMARY:2026 Talk with Officials - January
DESCRIPTION:Talk with Officials is a forum for the community to connect with elected officials representing Urbandale at the State\, County\, City and School District.  Space is limited.\n\n\n\nThe Talk with Officials events are open to the general public and held on the last Saturday of each respective month.  Registration is required for in-person attendance. Virtual attendance is unlimited\, however registration is still required to receive the link.\n\n\n\nQuestions will be accepted both from in-person and virtual attendees.  Please submit questions in advance\, preferably before Thursday\, January 29th  We will only accept additional questions the day of if time allows.  \n\n\n\nConfirmed elected officials include:\n\nRepresentative Larry McBurney (D)\,  Mayor Bob Andeweg\, Senator Matt Blake (D)\, School Board President Margaret Young\n\n\n\nInvited elected officials include: \n\nRepresentative Eddie Andrews (R)\, Representative Dan Gehlbach (R)\, Polk County Supervisor\, Jill Altringer\n\n\n\nA special thank you to Spraytec Fertilizers for sponsoring the 2025 and January 2026 Talk with Officials event and Anderson Properties for sponsoring the January Talk with Officials event.
X-ALT-DESC;FMTTYPE=text/html:Talk with Officials is a forum for the community to connect with elected officials representing Urbandale at the State\, County\, City and School District.&nbsp\; Space is limited.<br style="font-family: arial\, sans-serif\; font-size: 14px\;" />\n<br style="font-family: arial\, sans-serif\; font-size: 14px\;" />\nThe Talk with Officials events are open to the general public and held on the last Saturday of each respective month.&nbsp\; <span style="color:#FF0000\;"><strong>Registration is required for in-person attendance</strong></span>. Virtual attendance is unlimited\, however registration is still required to receive the link.<br />\n<br />\nQuestions will be accepted both from in-person and virtual attendees.&nbsp\; <span style="color:#FF0000\;"><strong>Please submit questions in advance\, preferably before <u>Thursday\, January 29th&nbsp\;</u> </strong></span>We will only accept additional questions the day of if time allows.&nbsp\;&nbsp\;<br />\n<br />\n<strong>Confirmed elected officials include:</strong><br />\nRepresentative Larry McBurney (D)\,&nbsp\; Mayor Bob Andeweg\, Senator Matt Blake (D)\, School Board President Margaret Young<br />\n<br />\n<strong>Invited elected officials include:&nbsp\;</strong><br />\nRepresentative Eddie Andrews (R)\, Representative Dan Gehlbach (R)\,&nbsp\;Polk County Supervisor\, Jill Altringer<br />\n<br />\nA special thank you to <a href="https://businesses.uniquelyurbandale.com/list/member/spraytec-fertilizers-llc-5836">Spraytec Fertilizers</a> for sponsoring the 2025 and January 2026 Talk with Officials event and&nbsp\;<a href="https://businesses.uniquelyurbandale.com/list/member/anderson-properties-1015">Anderson Properties</a> for sponsoring the January Talk with Officials event.&nbsp\;&nbsp\;
LOCATION:Aisha R. Syed Board Room Realtor | Iowa Realty Urbandale Chamber of Commerce office - limited in person 2830 100th St.\, Ste. 110\, Urbandale and available virtually
UID:e.1185.17650
SEQUENCE:3
DTSTAMP:20260419T214600Z
URL:https://businesses.uniquelyurbandale.com/events/details/2026-talk-with-officials-january-17650
END:VEVENT

END:VCALENDAR
